BEGIN:VCALENDAR
VERSION:2.0
PRODID:-//The North Florida Amateur Radio Society - ECPv6.15.20//NONSGML v1.0//EN
CALSCALE:GREGORIAN
METHOD:PUBLISH
X-WR-CALNAME:The North Florida Amateur Radio Society
X-ORIGINAL-URL:https://nofarsjax.org
X-WR-CALDESC:Events for The North Florida Amateur Radio Society
REFRESH-INTERVAL;VALUE=DURATION:PT1H
X-Robots-Tag:noindex
X-PUBLISHED-TTL:PT1H
BEGIN:VTIMEZONE
TZID:America/New_York
BEGIN:DAYLIGHT
TZOFFSETFROM:-0500
TZOFFSETTO:-0400
TZNAME:EDT
DTSTART:20240310T070000
END:DAYLIGHT
BEGIN:STANDARD
TZOFFSETFROM:-0400
TZOFFSETTO:-0500
TZNAME:EST
DTSTART:20241103T060000
END:STANDARD
BEGIN:DAYLIGHT
TZOFFSETFROM:-0500
TZOFFSETTO:-0400
TZNAME:EDT
DTSTART:20250309T070000
END:DAYLIGHT
BEGIN:STANDARD
TZOFFSETFROM:-0400
TZOFFSETTO:-0500
TZNAME:EST
DTSTART:20251102T060000
END:STANDARD
BEGIN:DAYLIGHT
TZOFFSETFROM:-0500
TZOFFSETTO:-0400
TZNAME:EDT
DTSTART:20260308T070000
END:DAYLIGHT
BEGIN:STANDARD
TZOFFSETFROM:-0400
TZOFFSETTO:-0500
TZNAME:EST
DTSTART:20261101T060000
END:STANDARD
END:VTIMEZONE
BEGIN:VEVENT
DTSTART;TZID=America/New_York:20251129T090000
DTEND;TZID=America/New_York:20251129T103000
DTSTAMP:20260419T002807
CREATED:20251119T173449Z
LAST-MODIFIED:20251119T173449Z
UID:1051-1764406800-1764412200@nofarsjax.org
SUMMARY:Fifth Saturday Breakfast
DESCRIPTION:November is one of the months that has five Saturdays so with that said\, it’s time for a Saturday breakfast.  We meet @ the Golden Corral located at Memorial Park Rd and Normandy Blvd at 0900. \nFirst one in\, please tell the staff that we need space in one of the rooms for as many as 30. Join fellow members for breakfast\, sea stories and enjoy the camaraderie!
URL:https://nofarsjax.org/event/fifth-saturday-breakfast/
LOCATION:Golden Corral Buffet & Grill\, 1201 Memorial Park Rd\,\, Jacksonville\,\, FL\, 32205
CATEGORIES:NOFARS Events
ATTACH;FMTTYPE=image/png:https://nofarsjax.org/wp-content/uploads/2025/11/Golden-Corral-e1763573638303.png
ORGANIZER;CN="John Reynolds (W4IJJ)":MAILTO:johnr1000@aol.com
END:VEVENT
END:VCALENDAR