BEGIN:VCALENDAR
VERSION:2.0
PRODID:-//The North Florida Amateur Radio Society - ECPv6.15.20//NONSGML v1.0//EN
CALSCALE:GREGORIAN
METHOD:PUBLISH
X-WR-CALNAME:The North Florida Amateur Radio Society
X-ORIGINAL-URL:https://nofarsjax.org
X-WR-CALDESC:Events for The North Florida Amateur Radio Society
REFRESH-INTERVAL;VALUE=DURATION:PT1H
X-Robots-Tag:noindex
X-PUBLISHED-TTL:PT1H
BEGIN:VTIMEZONE
TZID:America/New_York
BEGIN:DAYLIGHT
TZOFFSETFROM:-0500
TZOFFSETTO:-0400
TZNAME:EDT
DTSTART:20250309T070000
END:DAYLIGHT
BEGIN:STANDARD
TZOFFSETFROM:-0400
TZOFFSETTO:-0500
TZNAME:EST
DTSTART:20251102T060000
END:STANDARD
BEGIN:DAYLIGHT
TZOFFSETFROM:-0500
TZOFFSETTO:-0400
TZNAME:EDT
DTSTART:20260308T070000
END:DAYLIGHT
BEGIN:STANDARD
TZOFFSETFROM:-0400
TZOFFSETTO:-0500
TZNAME:EST
DTSTART:20261101T060000
END:STANDARD
BEGIN:DAYLIGHT
TZOFFSETFROM:-0500
TZOFFSETTO:-0400
TZNAME:EDT
DTSTART:20270314T070000
END:DAYLIGHT
BEGIN:STANDARD
TZOFFSETFROM:-0400
TZOFFSETTO:-0500
TZNAME:EST
DTSTART:20271107T060000
END:STANDARD
END:VTIMEZONE
BEGIN:VEVENT
DTSTART;TZID=America/New_York:20260328T060000
DTEND;TZID=America/New_York:20260328T120000
DTSTAMP:20260419T083735
CREATED:20260401T140040Z
LAST-MODIFIED:20260401T140040Z
UID:1492-1774677600-1774699200@nofarsjax.org
SUMMARY:Swapfest/Tailgate 03-28-2026
DESCRIPTION:This Swapfest/tailgate will be held jointly with our friends in Clay County and possibly Nassau. The event will take place in the parking lot @ Journey Church. The event begins @ 0600 and wraps up @ 1200\, with everyone and everything clear of the parking lot NLT 1300. Anyone found there after 1300 will be fed to the Alligators. 🙂  The church is located @ 6225 Lake Gray Blvd accessible from I-295/Collins Rd or I-295/Blanding Blvd. Bring LOTS of cash and collect lots of new gadgets. We all need more stuff.
URL:https://nofarsjax.org/event/swapfest-tailgate-03-28-2026/
LOCATION:Journey Church\, 6225 Lake Gray Blvd\, Jacksonville\, Florida\, 32244
CATEGORIES:Swap Meets
END:VEVENT
END:VCALENDAR